BEGIN:VCALENDAR
VERSION:2.0
PRODID:-//horsealert.local//NONSGML kigkonsult.se iCalcreator 2.10.5//
CALSCALE:GREGORIAN
X-WR-TIMEZONE:Europe/Dublin
BEGIN:VTIMEZONE
TZID:Etc/GMT-1
BEGIN:STANDARD
DTSTART:20010101T000000
TZOFFSETFROM:+0100
TZOFFSETTO:+0100
TZNAME:GMT +01:00
END:STANDARD
END:VTIMEZONE
BEGIN:VEVENT
UID:20260426T055225CEST-2914EZLibH@horsealert.local
DTSTAMP:20260426T030425Z
CATEGORIES:Horse Alerts
DESCRIPTION:Squirrel Conditions Stakes
DTSTART:20121009T154000
LOCATION:England
SUMMARY:Horse Racing:Squirrel Conditions Stakes
END:VEVENT
END:VCALENDAR
