BEGIN:VCALENDAR
VERSION:2.0
PRODID:-//horsealert.local//NONSGML kigkonsult.se iCalcreator 2.10.5//
CALSCALE:GREGORIAN
X-WR-TIMEZONE:Europe/Dublin
BEGIN:VTIMEZONE
TZID:Etc/GMT-1
BEGIN:STANDARD
DTSTART:20010101T000000
TZOFFSETFROM:+0100
TZOFFSETTO:+0100
TZNAME:GMT +01:00
END:STANDARD
END:VTIMEZONE
BEGIN:VEVENT
UID:20260426T055222CEST-1093AO7nJn@horsealert.local
DTSTAMP:20260426T030422Z
CATEGORIES:Horse Alerts
DESCRIPTION:Holiday On The Norfolk Broads Maiden Stakes \(Div 1\)
DTSTART:20121005T123000
LOCATION:England
SUMMARY:Horse Racing:Holiday On The Norfolk Broads Maiden Stakes \(Div 1\)
END:VEVENT
END:VCALENDAR
