BEGIN:VCALENDAR
VERSION:2.0
PRODID:-//horsealert.local//NONSGML kigkonsult.se iCalcreator 2.10.5//
CALSCALE:GREGORIAN
X-WR-TIMEZONE:Europe/Dublin
BEGIN:VTIMEZONE
TZID:Etc/GMT-1
BEGIN:STANDARD
DTSTART:20010101T000000
TZOFFSETFROM:+0100
TZOFFSETTO:+0100
TZNAME:GMT +01:00
END:STANDARD
END:VTIMEZONE
BEGIN:VEVENT
UID:20260426T055226CEST-28724u8RR9@horsealert.local
DTSTAMP:20260426T030426Z
CATEGORIES:Horse Alerts
DESCRIPTION:Bids 5 Screen System From MRG Handicap \(Div 1\)
DTSTART:20121004T184000
LOCATION:England
SUMMARY:Horse Racing:Bids 5 Screen System From MRG Handicap \(Div 1\)
END:VEVENT
END:VCALENDAR
